{"text_format":"3","workbook":"xlsx","n_sheets":7,"sheets":["Menu","180° Single","90° Single","180° Double","90° Double","180° Single opening 3 leavs","180° Double opening 3 leavs"],"not_rendered":{"images":11,"defined_names":9},"read":"whole","date_system":"1900"}

{"sheet":"Menu","index":0,"n_rows":37,"n_cols":11,"rows_kept":37,"merged":[[27,7,30,10],[36,0,36,10]]}
[{"$nulls":10},"MD 01.45"]
[{"$nulls":3},"Calculator of dimensions' development",{"$nulls":4},"INPUT LFM (Wall opening width)"]
[{"$nulls":3},"Main menu",{"$nulls":3},"Min 600 mm",null,"Max 4113 mm"]
{"$rows_empty":8}
[null,"Single opening",{"$nulls":4},"Single opening"]
[]
[]
[]
[]
[]
[null,"Double opening",{"$nulls":4},"Double opening"]
[]
[]
[]
[]
[]
[null,"Single opening 3 leaves"]
[null,"3 simmetrical leaves"]
[null,"1st and 2nd simmetrical leaves"]
[null,"2nd e 3rd simmetrical leaves"]
[null,"1st and 3rd simmetrical leaves",{"$nulls":5},"CELEGON’S patented Hardware systems allows to reduce \nthe volume of the doors, increase available spaces \nwithout masonry works and without added costs"]
[]
[]
[null,"Double opening 3 leaves"]
[null,"3 simmetrical leaves"]
[null,"1st and 2nd simmetrical leaves"]
[null,"2nd e 3rd simmetrical leaves"]
[null,"1st and 3rd simmetrical leaves"]
[]
["CELEGON Srl | Via G. Galilei, 6 - Z.I. | 30035 Mirano (Ve) | T +39 041 572 8404 | F +39 041 572 8522 | info@celegon.it | P.IVA 01892090273 | © copyright 2021 "]

{"sheet":"180° Single","index":1,"n_rows":22,"n_cols":11,"rows_kept":22,"merged":[[5,0,5,1],[5,2,5,10],[12,8,12,10],[20,0,20,1],[21,0,21,10]]}
[{"$nulls":10},"MD 01.45"]
[{"$nulls":3},"Calculator of dimensions' development",{"$nulls":4},"INPUT LFM (Wall opening width)"]
[{"$nulls":3},"Compack Living 180° single opening",{"$nulls":3},"Min 650 mm",{"$f":"Menu!I3","v":0},"Max 1300 mm"]
[]
[]
["Article code",null,"COMPACK LIVING 180° SINGLE OPENING"]
["BLACK","INOX","Kit Group","Hinge leaf\n\"LAC\"","Handle leaf\n\"LAM\"","LAM - LAC","Quote \"Z\"\nEncumbrance in\nopening","Quote \"V\"\nEncumbrance on\nthe wall","Outer Jamb \"ES\"","LA = LAC+LAM+1","Passage Dimension \"LP\""]
["802F60DX\n802F60SX","822F60DX\n822F60SX",{"$f":"IF(I3=\"\",\"-\",IF(I3<650,\"-\",IF(I3>=650,IF(I3<=900,\"F60\",IF(I3>900,\"-\")))))","v":"-"},{"$f":"IF(C8=\"-\",\"\",306.5)","v":""},{"$f":"IF(C8=\"-\",\"\",I3-393.5)","v":""},{"$f":"IF(C8=\"-\",\"\",E8-D8)","v":""},{"$f":"IF(C8=\"-\",\"\",355)","v":""},{"$f":"IF(C8=\"-\",\"\",250)","v":""},{"$f":"IF(C8=\"-\",\"\",I3-20)","v":""},{"$f":"IF(C8=\"-\",\"\",D8+E8+1)","v":""},{"$f":"IF(C8=\"-\",\"\",IF(F8>=0,592,D8+E8+29))","v":""}]
["802F70DX\n802F70SX","822F70DX\n822F70SX",{"$f":"IF(I3=\"\",\"-\",IF(I3<750,\"-\",IF(I3>=750,IF(I3<=1000,\"F70\",IF(I3>1000,\"-\")))))","v":"-"},{"$f":"IF(C9=\"-\",\"\",356.5)","v":""},{"$f":"IF(C9=\"-\",\"\",I3-443.5)","v":""},{"$f":"IF(C9=\"-\",\"\",E9-D9)","v":""},{"$f":"IF(C9=\"-\",\"\",405)","v":""},{"$f":"IF(C9=\"-\",\"\",300)","v":""},{"$f":"IF(C9=\"-\",\"\",I3-20)","v":""},{"$f":"IF(C9=\"-\",\"\",D9+E9+1)","v":""},{"$f":"IF(C9=\"-\",\"\",IF(F9>=0,692,I9-80-8))","v":""}]
["802A80DX\n802A80SX","822A80DX\n822A80SX",{"$f":"IF(I3=\"\",\"-\",IF(I3<850,\"-\",IF(I3>=850,IF(I3<=1100,\"A80\",IF(I3>1100,\"-\")))))","v":"-"},{"$f":"IF(C10=\"-\",\"\",406.5)","v":""},{"$f":"IF(C10=\"-\",\"\",I3-493.5)","v":""},{"$f":"IF(C10=\"-\",\"\",E10-D10)","v":""},{"$f":"IF(C10=\"-\",\"\",455)","v":""},{"$f":"IF(C10=\"-\",\"\",350)","v":""},{"$f":"IF(C10=\"-\",\"\",I3-20)","v":""},"",{"$f":"IF(C10=\"-\",\"\",IF(F10>=0,792,I10-80-8))","v":""}]
["802B90DX\n802B90SX","822B90DX\n822B90SX",{"$f":"IF(I3=\"\",\"-\",IF(I3<950,\"-\",IF(I3>=950,IF(I3<=1200,\"B90\",IF(I3>1200,\"-\")))))","v":"-"},{"$f":"IF(C11=\"-\",\"\",456.5)","v":""},{"$f":"IF(C11=\"-\",\"\",I3-543.5)","v":""},{"$f":"IF(C11=\"-\",\"\",E11-D11)","v":""},{"$f":"IF(C11=\"-\",\"\",505)","v":""},{"$f":"IF(C11=\"-\",\"\",400)","v":""},{"$f":"IF(C11=\"-\",\"\",I3-20)","v":""},"",{"$f":"IF(C11=\"-\",\"\",IF(F11>=0,892,I11-80-8))","v":""}]
["802B100DX\n802B100SX","822B100DX\n822B100SX",{"$f":"IF(I3=\"\",\"-\",IF(I3<1050,\"-\",IF(I3>=1050,IF(I3<=1300,\"B100\",IF(I3>1300,\"-\")))))","v":"-"},{"$f":"IF(C12=\"-\",\"\",506.5)","v":""},{"$f":"IF(C12=\"-\",\"\",I3-593.5)","v":""},"",{"$f":"IF(C12=\"-\",\"\",555)","v":""},{"$f":"IF(C12=\"-\",\"\",450)","v":""},{"$f":"IF(C12=\"-\",\"\",I3-20)","v":""},"",{"$f":"IF(C12=\"-\",\"\",IF(F12>=0,992,I12-80-8))","v":""}]
["DOOR EXAMPLE LEFT OPENING (SX) -TO PULL",{"$nulls":7},"specified dimensions are approximate"]
{"$rows_empty":7}
["  << Return to main menu"]
["CELEGON Srl | Via G. Galilei, 6 - Z.I. | 30035 Mirano (Ve) | T +39 041 572 8404 | F +39 041 572 8522 | info@celegon.it | P.IVA 01892090273 | © copyright 2021 "]

{"sheet":"90° Single","index":2,"n_rows":22,"n_cols":11,"rows_kept":22,"merged":[[5,0,5,1],[5,2,5,10],[12,8,12,10],[20,0,20,1],[21,0,21,10]]}
[{"$nulls":10},"MD 01.45"]
[{"$nulls":3},"Calculator of dimensions' development",{"$nulls":4},"INPUT LFM (Wall opening width)"]
[{"$nulls":3},"Compack Living 90° single opening",{"$nulls":3},"Min 600 mm",{"$f":"Menu!I3","v":0},"Max 1100 mm"]
[]
[]
["Article code",null,"COMPACK LIVING 90° SINGLE OPENING"]
["BLACK","INOX","Kit Group","Hinge leaf\n\"LAC\"","Handle leaf\n\"LAM\"","LAM - LAC","Quote \"Z\"\nEncumbrance in\nopening","Quote \"V\"\nEncumbrance on\nthe wall","Outer Jamb \"ES\"","LA = LAC+LAM+1","Passage Dimension \"LP\""]
["902F60DX\n902F60SX","922F60DX\n922F60SX",{"$f":"IF(I3=\"\",\"-\",IF(I3<600,\"-\",IF(I3>=600,IF(I3<=700,\"F60\",IF(I3>700,\"-\")))))","v":"-"},{"$f":"IF(C8=\"-\",\"\",306.5)","v":""},{"$f":"IF(C8=\"-\",\"\",I3-393.5)","v":""},{"$f":"IF(C8=\"-\",\"\",E8-D8)","v":""},{"$f":"IF(C8=\"-\",\"\",347)","v":""},{"$f":"IF(C8=\"-\",\"\",15)","v":""},{"$f":"IF(C8=\"-\",\"\",I3-20)","v":""},{"$f":"IF(C8=\"-\",\"\",D8+E8+1)","v":""},{"$f":"IF(C8=\"-\",\"\",IF(F8>=0,502,D8+E8-111))","v":""}]
["902F70DX\n902F70SX","922F70DX\n922F70SX",{"$f":"IF(I3=\"\",\"-\",IF(I3<700,\"-\",IF(I3>=700,IF(I3<=800,\"F70\",IF(I3>800,\"-\")))))","v":"-"},{"$f":"IF(C9=\"-\",\"\",356.5)","v":""},{"$f":"IF(C9=\"-\",\"\",I3-443.5)","v":""},{"$f":"IF(C9=\"-\",\"\",E9-D9)","v":""},{"$f":"IF(C9=\"-\",\"\",397)","v":""},{"$f":"IF(C9=\"-\",\"\",0)","v":""},{"$f":"IF(C9=\"-\",\"\",I3-20)","v":""},{"$f":"IF(C9=\"-\",\"\",D9+E9+1)","v":""},{"$f":"IF(C9=\"-\",\"\",IF(F9>=0,602,D9+E9-111))","v":""}]
["902A80DX\n902A80SX","922A80DX\n922A80SX",{"$f":"IF(I3=\"\",\"-\",IF(I3<800,\"-\",IF(I3>=800,IF(I3<=900,\"A80\",IF(I3>900,\"-\")))))","v":"-"},{"$f":"IF(C10=\"-\",\"\",406.5)","v":""},{"$f":"IF(C10=\"-\",\"\",I3-493.5)","v":""},"",{"$f":"IF(C10=\"-\",\"\",447)","v":""},{"$f":"IF(C10=\"-\",\"\",20)","v":""},{"$f":"IF(C10=\"-\",\"\",I3-20)","v":""},"",{"$f":"IF(C10=\"-\",\"\",IF(F10>=0,702,D10+E10-111))","v":""}]
["902B90DX\n902B90SX","922B90DX\n922B90SX",{"$f":"IF(I3=\"\",\"-\",IF(I3<900,\"-\",IF(I3>=900,IF(I3<=1000,\"B90\",IF(I3>1000,\"-\")))))","v":"-"},{"$f":"IF(C11=\"-\",\"\",456.5)","v":""},{"$f":"IF(C11=\"-\",\"\",I3-543.5)","v":""},"",{"$f":"IF(C11=\"-\",\"\",497)","v":""},{"$f":"IF(C11=\"-\",\"\",110)","v":""},{"$f":"IF(C11=\"-\",\"\",I3-20)","v":""},"",{"$f":"IF(C11=\"-\",\"\",IF(F11>=0,802,D11+E11-111))","v":""}]
["902B100DX\n902B100SX","922B100DX\n922B100SX",{"$f":"IF(I3=\"\",\"-\",IF(I3<1000,\"-\",IF(I3>=1000,IF(I3<=1100,\"B100\",IF(I3>1100,\"-\")))))","v":"-"},{"$f":"IF(C12=\"-\",\"\",506.5)","v":""},{"$f":"IF(C12=\"-\",\"\",I3-593.5)","v":""},"",{"$f":"IF(C12=\"-\",\"\",547)","v":""},{"$f":"IF(C12=\"-\",\"\",80)","v":""},{"$f":"IF(C12=\"-\",\"\",I3-20)","v":""},"",{"$f":"IF(C12=\"-\",\"\",IF(F12>=0,902,D12+E12-111))","v":""}]
["DOOR EXAMPLE LEFT OPENING (SX) -TO PULL",{"$nulls":7},"specified dimensions are approximate"]
{"$rows_empty":7}
["  << Return to main menu"]
["CELEGON Srl | Via G. Galilei, 6 - Z.I. | 30035 Mirano (Ve) | T +39 041 572 8404 | F +39 041 572 8522 | info@celegon.it | P.IVA 01892090273 | © copyright 2021 "]

{"sheet":"180° Double","index":3,"n_rows":22,"n_cols":11,"rows_kept":22,"merged":[[5,0,5,1],[5,2,5,10],[12,8,12,10],[20,0,20,1],[21,0,21,10]]}
[{"$nulls":10},"MD 01.45"]
[{"$nulls":3},"Calculator of dimensions' development",{"$nulls":4},"INPUT LFM (Wall opening width)"]
[{"$nulls":3},"Compack Living 180° ad apertura doppia",{"$nulls":3},"Min 1220 mm",{"$f":"Menu!I3","v":0},"Max 2520 mm"]
[]
[]
["Article code",null,"COMPACK LIVING 180° DOUBLE OPENING"]
["BLACK","INOX","Kit Group","Hinge leaf\n\"LAC\"","Handle leaf\n\"LAM\"","LAM - LAC","Quote \"Z\"\nEncumbrance in\nopening","Quote \"V\"\nEncumbrance on\nthe wall","Outer Jamb \"ES\"","LA = LAC+LAM+1","Passage Dimension \"LPD\""]
["802F60DX\n802F60SX","822F60DX\n822F60SX",{"$f":"IF(I3=\"\",\"-\",IF(I3<1220,\"-\",IF(I3>=1220,IF(I3<=1720,\"F60\",IF(I3>1720,\"-\")))))","v":"-"},{"$f":"IF(C8=\"-\",\"\",306.5)","v":""},{"$f":"IF(C8=\"-\",\"\",(I3-707)/2)","v":""},{"$f":"IF(C8=\"-\",\"\",E8-D8)","v":""},{"$f":"IF(C8=\"-\",\"\",355)","v":""},{"$f":"IF(C8=\"-\",\"\",250)","v":""},{"$f":"IF(C8=\"-\",\"\",I3-23)","v":""},{"$f":"IF(C8=\"-\",\"\",D8+E8+1)","v":""},{"$f":"IF(C8=\"-\",\"\",IF(F8>=0,1201,(D8+E8)*2-25))","v":""}]
["802F70DX\n802F70SX","822F70DX\n822F70SX",{"$f":"IF(I3=\"\",\"-\",IF(I3<1420,\"-\",IF(I3>=1420,IF(I3<=1920,\"F70\",IF(I3>1920,\"-\")))))","v":"-"},{"$f":"IF(C9=\"-\",\"\",356.5)","v":""},{"$f":"IF(C9=\"-\",\"\",(I3-807)/2)","v":""},{"$f":"IF(C9=\"-\",\"\",E9-D9)","v":""},{"$f":"IF(C9=\"-\",\"\",405)","v":""},{"$f":"IF(C9=\"-\",\"\",300)","v":""},{"$f":"IF(C9=\"-\",\"\",I3-23)","v":""},{"$f":"IF(C9=\"-\",\"\",D9+E9+1)","v":""},{"$f":"IF(C9=\"-\",\"\",IF(F9>=0,1401,(D9+E9)*2-25))","v":""}]
["802A80DX\n802A80SX","822A80DX\n822A80SX",{"$f":"IF(I3=\"\",\"-\",IF(I3<1620,\"-\",IF(I3>=1620,IF(I3<=2120,\"A80\",IF(I3>2120,\"-\")))))","v":"-"},{"$f":"IF(C10=\"-\",\"\",406.5)","v":""},{"$f":"IF(C10=\"-\",\"\",(I3-907)/2)","v":""},{"$f":"IF(C10=\"-\",\"\",E10-D10)","v":""},{"$f":"IF(C10=\"-\",\"\",455)","v":""},{"$f":"IF(C10=\"-\",\"\",350)","v":""},{"$f":"IF(C10=\"-\",\"\",I3-23)","v":""},"",{"$f":"IF(C10=\"-\",\"\",IF(F10>=0,1601,(D10+E10)*2-25))","v":""}]
["802B90DX\n802B90SX","822B90DX\n822B90SX",{"$f":"IF(I3=\"\",\"-\",IF(I3<1820,\"-\",IF(I3>=1820,IF(I3<=2320,\"B90\",IF(I3>2320,\"-\")))))","v":"-"},{"$f":"IF(C11=\"-\",\"\",456.5)","v":""},{"$f":"IF(C11=\"-\",\"\",(I3-1007)/2)","v":""},{"$f":"IF(C11=\"-\",\"\",E11-D11)","v":""},{"$f":"IF(C11=\"-\",\"\",505)","v":""},{"$f":"IF(C11=\"-\",\"\",400)","v":""},{"$f":"IF(C11=\"-\",\"\",I3-23)","v":""},"",{"$f":"IF(C11=\"-\",\"\",IF(F11>=0,1801,(D11+E11)*2-25))","v":""}]
["802B100DX\n802B100SX","822B100DX\n822B100SX",{"$f":"IF(I3=\"\",\"-\",IF(I3<2020,\"-\",IF(I3>=2020,IF(I3<=2520,\"B100\",IF(I3>2520,\"-\")))))","v":"-"},{"$f":"IF(C12=\"-\",\"\",506.5)","v":""},{"$f":"IF(C12=\"-\",\"\",(I3-1107)/2)","v":""},"",{"$f":"IF(C12=\"-\",\"\",555)","v":""},{"$f":"IF(C12=\"-\",\"\",450)","v":""},{"$f":"IF(C12=\"-\",\"\",I3-23)","v":""},"",{"$f":"IF(C12=\"-\",\"\",IF(F12>=0,2001,(D12+E12)*2-25))","v":""}]
["DOOR EXAMPLE WITH DOUBLE OPENING  OBTAINABLE WITH A COUPLE OF HARDWARE KIT RIGHT AND LEFT (DX + SX)",{"$nulls":7},"specified dimensions are approximate"]
["OPTIONAL: Push@go  to manage secondary leaf release "]
[]
[]
[]
[]
[]
[]
["  << Return to main menu"]
["CELEGON Srl | Via G. Galilei, 6 - Z.I. | 30035 Mirano (Ve) | T +39 041 572 8404 | F +39 041 572 8522 | info@celegon.it | P.IVA 01892090273 | © copyright 2021 "]

{"sheet":"90° Double","index":4,"n_rows":22,"n_cols":11,"rows_kept":22,"merged":[[5,0,5,1],[5,2,5,10],[12,8,12,10],[20,0,20,1],[21,0,21,10]]}
[{"$nulls":10},"MD 01.45"]
[{"$nulls":3},"Calculator of dimensions' development",{"$nulls":4},"INPUT LFM (Wall opening width)"]
[{"$nulls":3},"Compack Living 90° double opening",{"$nulls":3},"Min 1120 mm",{"$f":"Menu!I3","v":0},"Max 2120 mm"]
[]
[]
["Article code",null,"COMPACK LIVING 90° DOUBLE OPENING"]
["BLACK","INOX","Kit Group","Hinge leaf\n\"LAC\"","Handle leaf\n\"LAM\"","LAM - LAC","Quote \"Z\"\nEncumbrance in\nopening","Quote \"V\"\nEncumbrance on\nthe wall","Outer Jamb \"ES\"","LA = LAC+LAM+1","Passage Dimension \"LPD\""]
["902F60DX\n902F60SX","922F60DX\n922F60SX",{"$f":"IF(I3=\"\",\"-\",IF(I3<1120,\"-\",IF(I3>=1120,IF(I3<=1320,\"F60\",IF(I3>1320,\"-\")))))","v":"-"},{"$f":"IF(C8=\"-\",\"\",306.5)","v":""},{"$f":"IF(C8=\"-\",\"\",(I3-707)/2)","v":""},{"$f":"IF(C8=\"-\",\"\",E8-D8)","v":""},{"$f":"IF(C8=\"-\",\"\",347)","v":""},{"$f":"IF(C8=\"-\",\"\",15)","v":""},{"$f":"IF(C8=\"-\",\"\",I3-23)","v":""},{"$f":"IF(C8=\"-\",\"\",D8+E8+1)","v":""},{"$f":"IF(C8=\"-\",\"\",IF(F8>=0,1024,(D8+E8)*2-202))","v":""}]
["902F70DX\n902F70SX","922F70DX\n922F70SX",{"$f":"IF(I3=\"\",\"-\",IF(I3<1320,\"-\",IF(I3>=1320,IF(I3<=1520,\"F70\",IF(I3>1520,\"-\")))))","v":"-"},{"$f":"IF(C9=\"-\",\"\",356.5)","v":""},{"$f":"IF(C9=\"-\",\"\",(I3-807)/2)","v":""},{"$f":"IF(C9=\"-\",\"\",E9-D9)","v":""},{"$f":"IF(C9=\"-\",\"\",397)","v":""},{"$f":"IF(C9=\"-\",\"\",0)","v":""},{"$f":"IF(C9=\"-\",\"\",I3-23)","v":""},{"$f":"IF(C9=\"-\",\"\",D9+E9+1)","v":""},{"$f":"IF(C9=\"-\",\"\",IF(F9>=0,1224,(D9+E9)*2-202))","v":""}]
["902A80DX\n902A80SX","922A80DX\n922A80SX",{"$f":"IF(I3=\"\",\"-\",IF(I3<1520,\"-\",IF(I3>=1520,IF(I3<=1720,\"A80\",IF(I3>1720,\"-\")))))","v":"-"},{"$f":"IF(C10=\"-\",\"\",406.5)","v":""},{"$f":"IF(C10=\"-\",\"\",(I3-907)/2)","v":""},"",{"$f":"IF(C10=\"-\",\"\",447)","v":""},{"$f":"IF(C10=\"-\",\"\",20)","v":""},{"$f":"IF(C10=\"-\",\"\",I3-23)","v":""},"",{"$f":"IF(C10=\"-\",\"\",IF(F10>=0,1424,(D10+E10)*2-202))","v":""}]
["902B90DX\n902B90SX","922B90DX\n922B90SX",{"$f":"IF(I3=\"\",\"-\",IF(I3<1720,\"-\",IF(I3>=1720,IF(I3<=1920,\"B90\",IF(I3>1920,\"-\")))))","v":"-"},{"$f":"IF(C11=\"-\",\"\",456.5)","v":""},{"$f":"IF(C11=\"-\",\"\",(I3-1007)/2)","v":""},"",{"$f":"IF(C11=\"-\",\"\",497)","v":""},{"$f":"IF(C11=\"-\",\"\",110)","v":""},{"$f":"IF(C11=\"-\",\"\",I3-23)","v":""},"",{"$f":"IF(C11=\"-\",\"\",IF(F11>=0,1624,(D11+E11)*2-202))","v":""}]
["902B100DX\n902B100SX","922B100DX\n922B100SX",{"$f":"IF(I3=\"\",\"-\",IF(I3<1920,\"-\",IF(I3>=1920,IF(I3<=2120,\"B100\",IF(I3>2120,\"-\")))))","v":"-"},{"$f":"IF(C12=\"-\",\"\",506.5)","v":""},{"$f":"IF(C12=\"-\",\"\",(I3-1107)/2)","v":""},"",{"$f":"IF(C12=\"-\",\"\",547)","v":""},{"$f":"IF(C12=\"-\",\"\",80)","v":""},{"$f":"IF(C12=\"-\",\"\",I3-23)","v":""},"",{"$f":"IF(C12=\"-\",\"\",IF(F12>=0,1824,(D12+E12)*2-202))","v":""}]
["DOOR EXAMPLE WITH DOUBLE OPENING  OBTAINABLE WITH A COUPLE OF HARDWARE KIT RIGHT AND LEFT (DX + SX)",{"$nulls":7},"specified dimensions are approximate"]
["OPTIONAL: Push@go  to manage secondary leaf release "]
[]
[]
[]
[]
[]
[]
["  << Return to main menu"]
["CELEGON Srl | Via G. Galilei, 6 - Z.I. | 30035 Mirano (Ve) | T +39 041 572 8404 | F +39 041 572 8522 | info@celegon.it | P.IVA 01892090273 | © copyright 2021 "]

{"sheet":"180° Single opening 3 leavs","index":5,"n_rows":46,"n_cols":12,"rows_kept":46,"merged":[[5,0,5,1],[5,2,5,11],[13,0,13,1],[13,2,13,11],[21,0,21,1],[21,2,21,11],[29,0,29,1],[29,2,29,11],[36,9,36,11],[44,0,44,1],[45,0,45,11]]}
[{"$nulls":11},"MD 01.45"]
[{"$nulls":3},"Calculator of dimensions' development",{"$nulls":4},"INPUT LFM (Wall opening width)"]
[{"$nulls":3},"Compack Living 180° single opening",{"$nulls":3},"Min 1010 mm",{"$f":"Menu!I3","v":0},"Max 2101 mm"]
[]
[]
["Article code",null,"COMPACK LIVING 180°SINGLE OPENING WITH 3 SIMMETRIC LEAVES"]
["BLACK","INOX","Kit Group","Hinge leaf\n\"LAC\" (1st leaf)","Handle leaf\n\"LAM\" (2 nd leaf)","3rd leaf","LAM - LAC","Quote \"Z\"\nEncumbrance in\nopening","Quote \"V\"\nEncumbrance on\nthe wall","Outer Jamb \"ES\"","LA = LAC+LAM+\n3rd leaf+2","Passage Dimension\"LP\""]
["802F60DX\n802F60SX","822F60DX\n822F60SX",{"$f":"IF(I3=1010,\"F60\",\"-\")","v":"-"},{"$f":"IF(C8=\"-\",\"\",306.5)","v":""},{"$f":"IF(C8=\"-\",\"\",(($I$3-(D8*2)-22.5-60-2-6)))","v":""},{"$f":"IF(C8=\"-\",\"\",(($I$3-(D8*2)-22.5-60-2-6)))","v":""},{"$f":"IF(C8=\"-\",\"\",0)","v":""},{"$f":"IF(C8=\"-\",\"\",400)","v":""},{"$f":"IF(C8=\"-\",\"\",250)","v":""},{"$f":"IF(C8=\"-\",\"\",$I$3-22)","v":""},{"$f":"IF(C8=\"-\",\"\",D8+E8+F8+2)","v":""},{"$f":"IF(C8=\"-\",\"\",J8-88)","v":""}]
["802F70DX\n802F70SX","822F70DX\n822F70SX",{"$f":"IF(I3=1160,\"F70\",\"-\")","v":"-"},{"$f":"IF(C9=\"-\",\"\",356.5)","v":""},{"$f":"IF(C9=\"-\",\"\",(($I$3-(D9*2)-22.5-60-2-6)))","v":""},{"$f":"IF(C9=\"-\",\"\",(($I$3-(D9*2)-22.5-60-2-6)))","v":""},{"$f":"IF(C9=\"-\",\"\",0)","v":""},{"$f":"IF(C9=\"-\",\"\",450)","v":""},{"$f":"IF(C9=\"-\",\"\",300)","v":""},{"$f":"IF(C9=\"-\",\"\",$I$3-22)","v":""},{"$f":"IF(C9=\"-\",\"\",D9+E9+F9+2)","v":""},{"$f":"IF(C9=\"-\",\"\",J9-(88))","v":""}]
["802A80DX\n802A80SX","822A80DX\n822A80SX",{"$f":"IF(I3=1310,\"A80\",\"-\")","v":"-"},{"$f":"IF(C10=\"-\",\"\",406.5)","v":""},{"$f":"IF(C10=\"-\",\"\",(($I$3-(D10*2)-22.5-60-2-6)))","v":""},{"$f":"IF(C10=\"-\",\"\",(($I$3-(D10*2)-22.5-60-2-6)))","v":""},"",{"$f":"IF(C10=\"-\",\"\",500)","v":""},{"$f":"IF(C10=\"-\",\"\",350)","v":""},{"$f":"IF(C10=\"-\",\"\",$I$3-22)","v":""},"",""]
["802B90DX\n802B90SX","822B90DX\n822B90SX",{"$f":"IF(I3=1460,\"B90\",\"-\")","v":"-"},{"$f":"IF(C11=\"-\",\"\",456.5)","v":""},{"$f":"IF(C11=\"-\",\"\",(($I$3-(D11*2)-22.5-60-2-6)))","v":""},{"$f":"IF(C11=\"-\",\"\",(($I$3-(D11*2)-22.5-60-2-6)))","v":""},"",{"$f":"IF(C11=\"-\",\"\",550)","v":""},{"$f":"IF(C11=\"-\",\"\",400)","v":""},{"$f":"IF(C11=\"-\",\"\",$I$3-22)","v":""},"",""]
["802B100DX\n802B100SX","822B100DX\n822B100SX",{"$f":"IF(I3=1610,\"B100\",\"-\")","v":"-"},{"$f":"IF(C12=\"-\",\"\",506.5)","v":""},{"$f":"IF(C12=\"-\",\"\",(($I$3-(D12*2)-22.5-60-2-6)))","v":""},{"$f":"IF(C12=\"-\",\"\",(($I$3-(D12*2)-22.5-60-2-6)))","v":""},{"$f":"IF(C12=\"-\",\"\",0)","v":""},{"$f":"IF(C12=\"-\",\"\",600)","v":""},{"$f":"IF(C12=\"-\",\"\",450)","v":""},{"$f":"IF(C12=\"-\",\"\",$I$3-22)","v":""},"",""]
[]
["Article code",null,"COMPACK LIVING 180° SINGLE OPENING WITH 1ST AND 2ND SIMMETRIC LEAVES"]
["BLACK","INOX","Kit Group","Hinge leaf\n\"LAC\" (1st leaf)","Handle leaf\n\"LAM\" (2 nd leaf)","3rd leaf","3° anta - LAC","Quote \"Z\"\nEncumbrance in\nopening","Quote \"V\"\nEncumbrance on\nthe wall","Outer Jamb \"ES\"","LA = LAC+LAM+\n3rd leaf+2","Passage Dimension\"LP\""]
["802F60DX\n802F60SX","822F60DX\n822F60SX",{"$f":"IF(I3=\"\",\"-\",IF(I3<910,\"-\",IF(I3>=910,IF(I3<=1301.5,\"F60\",IF(I3>1301.5,\"-\")))))","v":"-"},{"$f":"IF(C16=\"-\",\"\",306.5)","v":""},{"$f":"IF(C16=\"-\",\"\",306.5)","v":""},{"$f":"IF(C16=\"-\",\"\",(($I$3-(D16*2)-22.5-60-2-6)))","v":""},{"$f":"IF(C16=\"-\",\"\",F16-D16)","v":""},{"$f":"IF(C16=\"-\",\"\",400)","v":""},{"$f":"IF(C16=\"-\",\"\",IF(G16<1,250,250+G16))","v":""},{"$f":"IF(C16=\"-\",\"\",$I$3-22)","v":""},{"$f":"IF(C16=\"-\",\"\",D16+E16+F16+2)","v":""},{"$f":"IF(C16=\"-\",\"\",IF(G16=0,900,J16-88))","v":""}]
["802F70DX\n802F70SX","822F70DX\n822F70SX",{"$f":"IF(I3=\"\",\"-\",IF(I3<1060,\"-\",IF(I3>=1060,IF(I3<=1501.5,\"F70\",IF(I3>1501.5,\"-\")))))","v":"-"},{"$f":"IF(C17=\"-\",\"\",356.5)","v":""},{"$f":"IF(C17=\"-\",\"\",356.5)","v":""},{"$f":"IF(C17=\"-\",\"\",(($I$3-(D17*2)-22.5-60-2-6)))","v":""},{"$f":"IF(C17=\"-\",\"\",F17-D17)","v":""},{"$f":"IF(C17=\"-\",\"\",450)","v":""},{"$f":"IF(C17=\"-\",\"\",IF(G17<1,300,300+G17))","v":""},{"$f":"IF(C17=\"-\",\"\",$I$3-22)","v":""},{"$f":"IF(C17=\"-\",\"\",D17+E17+F17+2)","v":""},{"$f":"IF(C17=\"-\",\"\",IF(G17=0,1050+G17,J17-88))","v":""}]
["802A80DX\n802A80SX","822A80DX\n822A80SX",{"$f":"IF(I3=\"\",\"-\",IF(I3<1160,\"-\",IF(I3>=1160,IF(I3<=1701.5,\"A80\",IF(I3>1701.5,\"-\",)))))","v":"-"},{"$f":"IF(C18=\"-\",\"\",406.5)","v":""},{"$f":"IF(C18=\"-\",\"\",406.5)","v":""},{"$f":"IF(C18=\"-\",\"\",(($I$3-(D18*2)-22.5-60-2-6)))","v":""},"",{"$f":"IF(C18=\"-\",\"\",500)","v":""},{"$f":"IF(C18=\"-\",\"\",IF(G18<1,350,350+G18))","v":""},{"$f":"IF(C18=\"-\",\"\",$I$3-22)","v":""},"",{"$f":"IF(C18=\"-\",\"\",IF(G18=0,1200+G18,J18-88))","v":""}]
["802B90DX\n802B90SX","822B90DX\n822B90SX",{"$f":"IF(I3=\"\",\"-\",IF(I3<1260,\"-\",IF(I3>=1260,IF(I3<=1901.5,\"B90\",IF(I3>1901.5,\"-\")))))","v":"-"},{"$f":"IF(C19=\"-\",\"\",456.5)","v":""},{"$f":"IF(C19=\"-\",\"\",456.5)","v":""},{"$f":"IF(C19=\"-\",\"\",(($I$3-(D19*2)-22.5-60-2-6)))","v":""},"",{"$f":"IF(C19=\"-\",\"\",550)","v":""},{"$f":"IF(C19=\"-\",\"\",IF(G19<1,400,400+G19))","v":""},{"$f":"IF(C19=\"-\",\"\",$I$3-22)","v":""},"",{"$f":"IF(C19=\"-\",\"\",IF(G19=0,1350+G19,J19-88))","v":""}]
["802B100DX\n802B100SX","822B100DX\n822B100SX",{"$f":"IF(I3=\"\",\"-\",IF(I3<1360,\"-\",IF(I3>=1360,IF(I3<=2101.5,\"B100\",IF(I3>2101.5,\"-\")))))","v":"-"},{"$f":"IF(C20=\"-\",\"\",506.5)","v":""},{"$f":"IF(C20=\"-\",\"\",506.5)","v":""},{"$f":"IF(C20=\"-\",\"\",(($I$3-(D20*2)-22.5-60-2-6)))","v":""},"",{"$f":"IF(C20=\"-\",\"\",600)","v":""},{"$f":"IF(C20=\"-\",\"\",IF(G20<1,450,450+G20))","v":""},{"$f":"IF(C20=\"-\",\"\",$I$3-22)","v":""},"",{"$f":"IF(C20=\"-\",\"\",IF(G20=0,1500+G20,J20-88))","v":""}]
[]
["Article code",null,"COMPACK LIVING 180° SINGLE OPENING WITH 2ND AND 3RD SIMMETRIC LEAVES"]
["BLACK","INOX","Kit Group","Hinge leaf\n\"LAC\" (1st leaf)","Handle leaf\n\"LAM\" (2 nd leaf)","3rd leaf","3rd leaf - LAC","Quote \"Z\"\nEncumbrance in\nopening","Quote \"V\"\nEncumbrance on\nthe wall","Outer Jamb \"ES\"","LA = LAC+LAM+\n3rd leaf+2","Passage Dimension\"LP\""]
["802F60DX\n802F60SX","822F60DX\n822F60SX",{"$f":"IF(I3=\"\",\"-\",IF(I3<910,\"-\",IF(I3>=910,IF(I3<=1410,\"F60\",IF(I3>1410,\"-\")))))","v":"-"},{"$f":"IF(C24=\"-\",\"\",306.5)","v":""},{"$f":"IF(C24=\"-\",\"\",(($I$3-(D24)-22.5-60-2-6)/2))","v":""},{"$f":"IF(C24=\"-\",\"\",(($I$3-(D24)-22.5-60-2-6)/2))","v":""},{"$f":"IF(C24=\"-\",\"\",F24-D24)","v":""},{"$f":"IF(C24=\"-\",\"\",400)","v":""},{"$f":"IF(C24=\"-\",\"\",IF(G24<1,250,250+G24))","v":""},{"$f":"IF(C24=\"-\",\"\",$I$3-22)","v":""},{"$f":"IF(C24=\"-\",\"\",D24+E24+F24+2)","v":""},{"$f":"IF(C24=\"-\",\"\",IF(G24>=0,900,J24-88))","v":""}]
["802F70DX\n802F70SX","822F70DX\n822F70SX",{"$f":"IF(I3=\"\",\"-\",IF(I3<1060,\"-\",IF(I3>=1060,IF(I3<=1560,\"F70\",IF(I3>1560,\"-\")))))","v":"-"},{"$f":"IF(C25=\"-\",\"\",356.5)","v":""},{"$f":"IF(C25=\"-\",\"\",(($I$3-(D25)-22.5-60-2-6)/2))","v":""},{"$f":"IF(C25=\"-\",\"\",(($I$3-(D25)-22.5-60-2-6)/2))","v":""},{"$f":"IF(C25=\"-\",\"\",F25-D25)","v":""},{"$f":"IF(C25=\"-\",\"\",450)","v":""},{"$f":"IF(C25=\"-\",\"\",IF(G25<1,300,300+G25))","v":""},{"$f":"IF(C25=\"-\",\"\",$I$3-22)","v":""},{"$f":"IF(C25=\"-\",\"\",D25+E25+F25+2)","v":""},{"$f":"IF(C25=\"-\",\"\",IF(G25>=0,1050,J25-88))","v":""}]
["802A80DX\n802A80SX","822A80DX\n822A80SX",{"$f":"IF(I3=\"\",\"-\",IF(I3<1210,\"-\",IF(I3>=1210,IF(I3<=1710,\"A80\",IF(I3>1710,\"-\")))))","v":"-"},{"$f":"IF(C26=\"-\",\"\",406.5)","v":""},{"$f":"IF(C26=\"-\",\"\",(($I$3-(D26)-22.5-60-2-6)/2))","v":""},{"$f":"IF(C26=\"-\",\"\",(($I$3-D26-22.5-60-2-6)/2))","v":""},"",{"$f":"IF(C26=\"-\",\"\",500)","v":""},{"$f":"IF(C26=\"-\",\"\",IF(G26<1,350,350+G26))","v":""},{"$f":"IF(C26=\"-\",\"\",$I$3-22)","v":""},"",{"$f":"IF(C26=\"-\",\"\",IF(G26>=0,1200,J26-88))","v":""}]
["802B90DX\n802B90SX","822B90DX\n822B90SX",{"$f":"IF(I3=\"\",\"-\",IF(I3<1360,\"-\",IF(I3>=1360,IF(I3<=1860,\"B90\",IF(I3>1860,\"-\")))))","v":"-"},{"$f":"IF(C27=\"-\",\"\",456.5)","v":""},{"$f":"IF(C27=\"-\",\"\",(($I$3-(D27)-22.5-60-2-6)/2))","v":""},{"$f":"IF(C27=\"-\",\"\",(($I$3-(D27)-22.5-60-2-6)/2))","v":""},"",{"$f":"IF(C27=\"-\",\"\",550)","v":""},{"$f":"IF(C27=\"-\",\"\",IF(G27<1,400,400+G27))","v":""},{"$f":"IF(C27=\"-\",\"\",$I$3-22)","v":""},"",{"$f":"IF(C27=\"-\",\"\",IF(G27>=0,1350,J27-88))","v":""}]
["802B100DX\n802B100SX","822B100DX\n822B100SX",{"$f":"IF(I3=\"\",\"-\",IF(I3<1510,\"-\",IF(I3>=1510,IF(I3<=2010,\"B100\",IF(I3>2010,\"-\")))))","v":"-"},{"$f":"IF(C28=\"-\",\"\",506.5)","v":""},{"$f":"IF(C28=\"-\",\"\",(($I$3-(D28)-22.5-60-2-6)/2))","v":""},{"$f":"IF(C28=\"-\",\"\",(($I$3-(D28)-22.5-60-2-6)/2))","v":""},"",{"$f":"IF(C28=\"-\",\"\",600)","v":""},{"$f":"IF(C28=\"-\",\"\",IF(G28<1,450,450+G28))","v":""},{"$f":"IF(C28=\"-\",\"\",$I$3-22)","v":""},"",{"$f":"IF(C28=\"-\",\"\",IF(G28>=0,1500,J28-88))","v":""}]
[]
["Article code",null,"COMPACK LIVING 180° SINGLE OPENING WITH 1ST AND 3RD SIMMETRIC LEAVES"]
["BLACK","INOX","Kit Group","Hinge leaf\n\"LAC\" (1st leaf)","Handle leaf\n\"LAM\" (2 nd leaf)","3rd leaf","LAM - LAC","Quote \"Z\"\nEncumbrance in\nopening","Quote \"V\"\nEncumbrance on\nthe wall","Outer Jamb \"ES\"","LA = LAC+LAM+\n3rd leaf+2","Passage Dimension\"LP\""]
["802F60DX\n802F60SX","822F60DX\n822F60SX",{"$f":"IF(I3=\"\",\"-\",IF(I3<960,\"-\",IF(I3>=960,IF(I3<=1210,\"F60\",IF(I3>1210,\"-\")))))","v":"-"},{"$f":"IF(C32=\"-\",\"\",306.5)","v":""},{"$f":"IF(C32=\"-\",\"\",(($I$3-(D32*2)-22.5-60-2-6)))","v":""},{"$f":"IF(C32=\"-\",\"\",306.5)","v":""},{"$f":"IF(C32=\"-\",\"\",E32-D32)","v":""},{"$f":"IF(C32=\"-\",\"\",400)","v":""},{"$f":"IF(C32=\"-\",\"\",IF(G32<1,250,250+G32))","v":""},{"$f":"IF(C32=\"-\",\"\",$I$3-22)","v":""},{"$f":"IF(C32=\"-\",\"\",D32+E32+F32+2)","v":""},{"$f":"IF(C32=\"-\",\"\",IF(G32>=0,900,J32-88))","v":""}]
["802F70DX\n802F70SX","822F70DX\n822F70SX",{"$f":"IF(I3=\"\",\"-\",IF(I3<1110,\"-\",IF(I3>=1110,IF(I3<=1360,\"F70\",IF(I3>1360,\"-\")))))","v":"-"},{"$f":"IF(C33=\"-\",\"\",356.5)","v":""},{"$f":"IF(C33=\"-\",\"\",(($I$3-(D33*2)-22.5-60-2-6)))","v":""},{"$f":"IF(C33=\"-\",\"\",356.5)","v":""},{"$f":"IF(C33=\"-\",\"\",E33-D33)","v":""},{"$f":"IF(C33=\"-\",\"\",450)","v":""},{"$f":"IF(C33=\"-\",\"\",IF(G33<1,300,300+G33))","v":""},{"$f":"IF(C33=\"-\",\"\",$I$3-22)","v":""},{"$f":"IF(C33=\"-\",\"\",D33+E33+F33+2)","v":""},{"$f":"IF(C33=\"-\",\"\",IF(G33>=0,1050,J33-88))","v":""}]
["802A80DX\n802A80SX","822A80DX\n822A80SX",{"$f":"IF(I3=\"\",\"-\",IF(I3<1260,\"-\",IF(I3>=1260,IF(I3<=1510,\"A80\",IF(I3>1510,\"-\")))))","v":"-"},{"$f":"IF(C34=\"-\",\"\",406.5)","v":""},{"$f":"IF(C34=\"-\",\"\",(($I$3-(D34*2)-22.5-60-2-6)))","v":""},{"$f":"IF(C34=\"-\",\"\",406.5)","v":""},"",{"$f":"IF(C34=\"-\",\"\",500)","v":""},{"$f":"IF(C34=\"-\",\"\",IF(G34<1,350,350+G34))","v":""},{"$f":"IF(C34=\"-\",\"\",$I$3-22)","v":""},"",{"$f":"IF(C34=\"-\",\"\",IF(G34>=0,1200,J34-88))","v":""}]
["802B90DX\n802B90SX","822B90DX\n822B90SX",{"$f":"IF(I3=\"\",\"-\",IF(I3<1410,\"-\",IF(I3>=1410,IF(I3<=1660,\"B90\",IF(I3>1660,\"-\")))))","v":"-"},{"$f":"IF(C35=\"-\",\"\",456.5)","v":""},{"$f":"IF(C35=\"-\",\"\",(($I$3-(D35*2)-22.5-60-2-6)))","v":""},{"$f":"IF(C35=\"-\",\"\",456.5)","v":""},"",{"$f":"IF(C35=\"-\",\"\",550)","v":""},{"$f":"IF(C35=\"-\",\"\",IF(G35<1,400,400+G35))","v":""},{"$f":"IF(C35=\"-\",\"\",$I$3-22)","v":""},"",{"$f":"IF(C35=\"-\",\"\",IF(G35>=0,1350,J35-88))","v":""}]
["802B100DX\n802B100SX","822B100DX\n822B100SX",{"$f":"IF(I3=\"\",\"-\",IF(I3<1560,\"-\",IF(I3>=1560,IF(I3<=1810,\"B100\",IF(I3>1810,\"-\")))))","v":"-"},{"$f":"IF(C36=\"-\",\"\",506.5)","v":""},{"$f":"IF(C36=\"-\",\"\",(($I$3-(D36*2)-22.5-60-2-6)))","v":""},{"$f":"IF(C36=\"-\",\"\",506.5)","v":""},"",{"$f":"IF(C36=\"-\",\"\",600)","v":""},{"$f":"IF(C36=\"-\",\"\",IF(G36<1,450,450+G36))","v":""},{"$f":"IF(C36=\"-\",\"\",$I$3-22)","v":""},"",{"$f":"IF(C36=\"-\",\"\",IF(G36>=0,1500,J36-88))","v":""}]
["DOOR EXAMPLE LEFT OPENING (SX) -TO PULL",{"$nulls":8},"specified dimensions are approximate"]
{"$rows_empty":7}
["  << Return to main menu"]
["CELEGON Srl | Via G. Galilei, 6 - Z.I. | 30035 Mirano (Ve) | T +39 041 572 8404 | F +39 041 572 8522 | info@celegon.it | P.IVA 01892090273 | © copyright 2021 "]

{"sheet":"180° Double opening 3 leavs","index":6,"n_rows":46,"n_cols":12,"rows_kept":46,"merged":[[5,0,5,1],[5,2,5,11],[13,0,13,1],[13,2,13,11],[21,0,21,1],[21,2,21,11],[29,0,29,1],[29,2,29,11],[36,9,36,11],[44,0,44,1],[45,0,45,11]]}
[{"$nulls":11},"MD 01.45"]
[{"$nulls":3},"Calculator of dimensions' development",{"$nulls":4},"INPUT LFM (Wall opening width)"]
[{"$nulls":3},"Compack Living 180° double opening",{"$nulls":3},"Min 1730 mm",{"$f":"Menu!I3","v":0},"Max 4113 mm"]
[]
[]
["Article code",null,"COMPACK LIVING 180° DOUBLE OPENING WITH 3 SIMMETRIC LEAVES"]
["BLACK","INOX","Kit Group","Hinge leaf\n\"LAC\" (1st leaf)","Handle leaf\n\"LAM\" (2nd leaf)","3rd leaf","LAM - LAC","Quote \"Z\"\nEncumbrance in\nopening","Quote \"V\"\nEncumbrance on\nthe wall","Outer Jamb \"ES\"","LA = LAC+LAM+\n3 rd leaf+2","Passage Dimension\"LPD\""]
["802F60DX\n802F60SX","822F60DX\n822F60SX",{"$f":"IF(I3=1930,\"F60\",\"-\")","v":"-"},{"$f":"IF(C8=\"-\",\"\",306.5)","v":""},{"$f":"IF(C8=\"-\",\"\",(($I$3-(D8*4)-18-60-4-9)/2))","v":""},{"$f":"IF(C8=\"-\",\"\",(($I$3-(D8*4)-18-60-4-9)/2))","v":""},{"$f":"IF(C8=\"-\",\"\",0)","v":""},{"$f":"IF(C8=\"-\",\"\",400)","v":""},{"$f":"IF(C8=\"-\",\"\",250)","v":""},{"$f":"IF(C8=\"-\",\"\",I$3-18)","v":""},{"$f":"IF(C8=\"-\",\"\",D8+E8+F8+2)","v":""},{"$f":"IF(C8=\"-\",\"\",J8-96)","v":""}]
["802F70DX\n802F70SX","822F70DX\n822F70SX",{"$f":"IF(I3=2230,\"F70\",\"-\")","v":"-"},{"$f":"IF(C9=\"-\",\"\",356.5)","v":""},{"$f":"IF(C9=\"-\",\"\",(($I$3-(D9*4)-18-60-4-9)/2))","v":""},{"$f":"IF(C9=\"-\",\"\",(($I$3-(D9*4)-18-60-4-9)/2))","v":""},{"$f":"IF(C9=\"-\",\"\",0)","v":""},{"$f":"IF(C9=\"-\",\"\",450)","v":""},{"$f":"IF(C9=\"-\",\"\",300)","v":""},{"$f":"IF(C9=\"-\",\"\",I$3-18)","v":""},{"$f":"IF(C9=\"-\",\"\",D9+E9+F9+2)","v":""},{"$f":"IF(C9=\"-\",\"\",J9-96)","v":""}]
["802A80DX\n802A80SX","822A80DX\n822A80SX",{"$f":"IF(I3=2530,\"A80\",\"-\")","v":"-"},{"$f":"IF(C10=\"-\",\"\",406.5)","v":""},{"$f":"IF(C10=\"-\",\"\",(($I$3-(D10*4)-18-60-4-9)/2))","v":""},{"$f":"IF(C10=\"-\",\"\",(($I$3-(E10*4)-18-60-4-9)/2))","v":""},"",{"$f":"IF(C10=\"-\",\"\",500)","v":""},{"$f":"IF(C10=\"-\",\"\",350)","v":""},{"$f":"IF(C10=\"-\",\"\",I$3-18)","v":""},{"$f":"IF(C10=\"-\",\"\",D10+E10+F10+2)","v":""},""]
["802B90DX\n802B90SX","822B90DX\n822B90SX",{"$f":"IF(I3=2830,\"B90\",\"-\")","v":"-"},{"$f":"IF(C11=\"-\",\"\",456.5)","v":""},{"$f":"IF(C11=\"-\",\"\",(($I$3-(D11*4)-18-60-4-9)/2))","v":""},{"$f":"IF(C11=\"-\",\"\",(($I$3-(E11*4)-18-60-4-9)/2))","v":""},"",{"$f":"IF(C11=\"-\",\"\",550)","v":""},{"$f":"IF(C11=\"-\",\"\",400)","v":""},{"$f":"IF(C11=\"-\",\"\",I$3-18)","v":""},{"$f":"IF(C11=\"-\",\"\",D11+E11+F11+2)","v":""},""]
["802B100DX\n802B100SX","822B100DX\n822B100SX",{"$f":"IF(I3=3130,\"B100\",\"-\")","v":"-"},{"$f":"IF(C12=\"-\",\"\",506.5)","v":""},{"$f":"IF(C12=\"-\",\"\",(($I$3-(D12*4)-18-60-4-9)/2))","v":""},{"$f":"IF(C12=\"-\",\"\",(($I$3-(E12*4)-18-60-4-9)/2))","v":""},"",{"$f":"IF(C12=\"-\",\"\",600)","v":""},{"$f":"IF(C12=\"-\",\"\",450)","v":""},{"$f":"IF(C12=\"-\",\"\",I$3-18)","v":""},{"$f":"IF(C12=\"-\",\"\",D12+E12+F12+2)","v":""},""]
[]
["Article code",null,"COMPACK LIVING 180° DOUBLE OPENING WITH  1ST AND 2ND SIMMETRIC LEAVES"]
["BLACK","INOX","Kit Group","Hinge leaf\n\"LAC\" (1st leaf)","Handle leaf\n\"LAM\" (2nd leaf)","3rd leaf","3rd leaf - LAC","Quote \"Z\"\nEncumbrance in\nopening","Quote \"V\"\nEncumbrance on\nthe wall","Outer Jamb \"ES\"","LA = LAC+LAM+\n3 rd leaf+2","Passage Dimension\"LPD\""]
["802F60DX\n802F60SX","822F60DX\n822F60SX",{"$f":"IF(I3=\"\",\"-\",IF(I3<1730,\"-\",IF(I3>=1730,IF(I3<=2513,\"F60\",IF(I3>2513,\"-\")))))","v":"-"},{"$f":"IF(C16=\"-\",\"\",306.5)","v":""},{"$f":"IF(C16=\"-\",\"\",306.5)","v":""},{"$f":"IF(C16=\"-\",\"\",(($I$3-(D16*4)-18-60-4-9)/2))","v":""},{"$f":"IF(C16=\"-\",\"\",F16-D16)","v":""},{"$f":"IF(C16=\"-\",\"\",400)","v":""},{"$f":"IF(C16=\"-\",\"\",IF(G16<1,250,250+G16))","v":""},{"$f":"IF(C16=\"-\",\"\",I$3-18)","v":""},{"$f":"IF(C16=\"-\",\"\",D16+E16+F16+2)","v":""},{"$f":"IF(C16=\"-\",\"\",J16-96)","v":""}]
["802F70DX\n802F70SX","822F70DX\n822F70SX",{"$f":"IF(I3=\"\",\"-\",IF(I3<2030,\"-\",IF(I3>=2030,IF(I3<=2913,\"F70\",IF(I3>2913,\"-\")))))","v":"-"},{"$f":"IF(C17=\"-\",\"\",356.5)","v":""},{"$f":"IF(C17=\"-\",\"\",356.5)","v":""},{"$f":"IF(C17=\"-\",\"\",(($I$3-(D17*4)-18-60-4-9)/2))","v":""},{"$f":"IF(C17=\"-\",\"\",F17-D17)","v":""},{"$f":"IF(C17=\"-\",\"\",450)","v":""},{"$f":"IF(C17=\"-\",\"\",IF(G17<1,300,300+G17))","v":""},{"$f":"IF(C17=\"-\",\"\",I$3-18)","v":""},{"$f":"IF(C17=\"-\",\"\",D17+E17+F17+2)","v":""},{"$f":"IF(C17=\"-\",\"\",J17-96)","v":""}]
["802A80DX\n802A80SX","822A80DX\n822A80SX",{"$f":"IF(I3=\"\",\"-\",IF(I3<2230,\"-\",IF(I3>=2230,IF(I3<=3313,\"A80\",IF(I3>3313,\"-\",)))))","v":"-"},{"$f":"IF(C18=\"-\",\"\",406.5)","v":""},{"$f":"IF(C18=\"-\",\"\",406.5)","v":""},{"$f":"IF(C18=\"-\",\"\",(($I$3-(D18*4)-18-60-4-9)/2))","v":""},"",{"$f":"IF(C18=\"-\",\"\",500)","v":""},{"$f":"IF(C18=\"-\",\"\",IF(G18<1,350,350+G18))","v":""},{"$f":"IF(C18=\"-\",\"\",I$3-18)","v":""},{"$f":"IF(C18=\"-\",\"\",D18+E18+F18+2)","v":""},""]
["802B90DX\n802B90SX","822B90DX\n822B90SX",{"$f":"IF(I3=\"\",\"-\",IF(I3<2430,\"-\",IF(I3>=2430,IF(I3<=3713,\"B90\",IF(I3>3713,\"-\")))))","v":"-"},{"$f":"IF(C19=\"-\",\"\",456.5)","v":""},{"$f":"IF(C19=\"-\",\"\",456.5)","v":""},{"$f":"IF(C19=\"-\",\"\",(($I$3-(D19*4)-18-60-4-9)/2))","v":""},"",{"$f":"IF(C19=\"-\",\"\",550)","v":""},{"$f":"IF(C19=\"-\",\"\",IF(G19<1,400,400+G19))","v":""},{"$f":"IF(C19=\"-\",\"\",I$3-18)","v":""},{"$f":"IF(C19=\"-\",\"\",D19+E19+F19+2)","v":""},""]
["802B100DX\n802B100SX","822B100DX\n822B100SX",{"$f":"IF(I3=\"\",\"-\",IF(I3<2630,\"-\",IF(I3>=2630,IF(I3<=4113,\"B100\",IF(I3>4113,\"-\")))))","v":"-"},{"$f":"IF(C20=\"-\",\"\",506.5)","v":""},{"$f":"IF(C20=\"-\",\"\",506.5)","v":""},{"$f":"IF(C20=\"-\",\"\",(($I$3-(D20*4)-18-60-4-9)/2))","v":""},"",{"$f":"IF(C20=\"-\",\"\",600)","v":""},{"$f":"IF(C20=\"-\",\"\",IF(G20<1,450,450+G20))","v":""},{"$f":"IF(C20=\"-\",\"\",I$3-18)","v":""},{"$f":"IF(C20=\"-\",\"\",D20+E20+F20+2)","v":""},{"$f":"IF(C20=\"-\",\"\",J20-96)","v":""}]
[]
["Article code",null,"COMPACK LIVING 180°  DOUBLE OPENING WITH  2ND AND 3RD SIMMETRIC LEAVES"]
["BLACK","INOX","Kit Group","Hinge leaf\n\"LAC\" (1st leaf)","Handle leaf\n\"LAM\" (2nd leaf)","3rd leaf","3rd leaf - LAC","Quote \"Z\"\nEncumbrance in\nopening","Quote \"V\"\nEncumbrance on\nthe wall","Outer Jamb \"ES\"","LA = LAC+LAM+\n3 rd leaf+2","Passage Dimension\"LPD\""]
["802F60DX\n802F60SX","822F60DX\n822F60SX",{"$f":"IF(I3=\"\",\"-\",IF(I3<1730,\"-\",IF(I3>=1730,IF(I3<=2730,\"F60\",IF(I3>2730,\"-\")))))","v":"-"},{"$f":"IF(C24=\"-\",\"\",306.5)","v":""},{"$f":"IF(C24=\"-\",\"\",(($I$3-(D24*2)-18-60-4-9)/4))","v":""},{"$f":"IF(C24=\"-\",\"\",(($I$3-(D24*2)-18-60-4-9)/4))","v":""},{"$f":"IF(C24=\"-\",\"\",F24-D24)","v":""},{"$f":"IF(C24=\"-\",\"\",400)","v":""},{"$f":"IF(C24=\"-\",\"\",IF(G24<1,250,250+G24))","v":""},{"$f":"IF(C24=\"-\",\"\",I$3-18)","v":""},{"$f":"IF(C24=\"-\",\"\",D24+E24+F24+2)","v":""},{"$f":"IF(C24=\"-\",\"\",IF(G24>0,J24-96-(G24*2),J24-96))","v":""}]
["802F70DX\n802F70SX","822F70DX\n822F70SX",{"$f":"IF(I3=\"\",\"-\",IF(I3<2030,\"-\",IF(I3>=2030,IF(I3<=3030,\"F70\",IF(I3>3030,\"-\")))))","v":"-"},{"$f":"IF(C25=\"-\",\"\",356.5)","v":""},{"$f":"IF(C25=\"-\",\"\",(($I$3-(D25*2)-18-60-4-9)/4))","v":""},{"$f":"IF(C25=\"-\",\"\",(($I$3-(D25*2)-18-60-4-9)/4))","v":""},{"$f":"IF(C25=\"-\",\"\",F25-D25)","v":""},{"$f":"IF(C25=\"-\",\"\",450)","v":""},{"$f":"IF(C25=\"-\",\"\",IF(G25<1,300,300+G25))","v":""},{"$f":"IF(C25=\"-\",\"\",I$3-18)","v":""},{"$f":"IF(C25=\"-\",\"\",D25+E25+F25+2)","v":""},""]
["802A80DX\n802A80SX","822A80DX\n822A80SX",{"$f":"IF(I3=\"\",\"-\",IF(I3<2330,\"-\",IF(I3>=2330,IF(I3<=3330,\"A80\",IF(I3>3330,\"-\")))))","v":"-"},{"$f":"IF(C26=\"-\",\"\",406.5)","v":""},{"$f":"IF(C26=\"-\",\"\",(($I$3-(D26*2)-18-60-4-9)/4))","v":""},{"$f":"IF(C26=\"-\",\"\",(($I$3-(D26*2)-18-60-4-9)/4))","v":""},"",{"$f":"IF(C26=\"-\",\"\",500)","v":""},{"$f":"IF(C26=\"-\",\"\",IF(G26<1,350,350+G26))","v":""},{"$f":"IF(C26=\"-\",\"\",I$3-18)","v":""},{"$f":"IF(C26=\"-\",\"\",D26+E26+F26+2)","v":""},""]
["802B90DX\n802B90SX","822B90DX\n822B90SX",{"$f":"IF(I3=\"\",\"-\",IF(I3<2630,\"-\",IF(I3>=2630,IF(I3<=3630,\"B90\",IF(I3>3630,\"-\")))))","v":"-"},{"$f":"IF(C27=\"-\",\"\",456.5)","v":""},{"$f":"IF(C27=\"-\",\"\",(($I$3-(D27*2)-18-60-4-9)/4))","v":""},{"$f":"IF(C27=\"-\",\"\",(($I$3-(D27*2)-18-60-4-9)/4))","v":""},"",{"$f":"IF(C27=\"-\",\"\",550)","v":""},{"$f":"IF(C27=\"-\",\"\",IF(G27<1,400,400+G27))","v":""},{"$f":"IF(C27=\"-\",\"\",I$3-18)","v":""},{"$f":"IF(C27=\"-\",\"\",D27+E27+F27+2)","v":""},""]
["802B100DX\n802B100SX","822B100DX\n822B100SX",{"$f":"IF(I3=\"\",\"-\",IF(I3<2930,\"-\",IF(I3>=2930,IF(I3<=3930,\"B100\",IF(I3>3930,\"-\")))))","v":"-"},{"$f":"IF(C28=\"-\",\"\",506.5)","v":""},{"$f":"IF(C28=\"-\",\"\",(($I$3-(D28*2)-18-60-4-9)/4))","v":""},{"$f":"IF(C28=\"-\",\"\",(($I$3-(D28*2)-18-60-4-9)/4))","v":""},"",{"$f":"IF(C28=\"-\",\"\",600)","v":""},{"$f":"IF(C28=\"-\",\"\",IF(G28<1,450,450+G28))","v":""},{"$f":"IF(C28=\"-\",\"\",I$3-18)","v":""},{"$f":"IF(C28=\"-\",\"\",D28+E28+F28+2)","v":""},{"$f":"IF(C28=\"-\",\"\",IF(G28>0,J28-96-(G28*2),J28-96))","v":""}]
[]
["Article code",null,"COMPACK LIVING 180° DOUBLE OPENING WITH  1ST AND 3RD SIMMETRIC LEAVES"]
["BLACK","INOX","Kit Group","Hinge leaf\n\"LAC\" (1st leaf)","Handle leaf\n\"LAM\" (2nd leaf)","3rd leaf","LAM - LAC","Quote \"Z\"\nEncumbrance in\nopening","Quote \"V\"\nEncumbrance on\nthe wall","Outer Jamb \"ES\"","LA = LAC+LAM+\n3 rd leaf+2","Passage Dimension\"LPD\""]
["802F60DX\n802F60SX","822F60DX\n822F60SX",{"$f":"IF(I3=\"\",\"-\",IF(I3<1830,\"-\",IF(I3>=1830,IF(I3<=2330,\"F60\",IF(I3>2330,\"-\")))))","v":"-"},{"$f":"IF(C32=\"-\",\"\",306.5)","v":""},{"$f":"IF(C32=\"-\",\"\",(($I$3-(D32*4)-18-60-4-9)/2))","v":""},{"$f":"IF(C32=\"-\",\"\",306.5)","v":""},{"$f":"IF(C32=\"-\",\"\",E32-D32)","v":""},{"$f":"IF(C32=\"-\",\"\",400)","v":""},{"$f":"IF(C32=\"-\",\"\",IF(G32<1,250,250+G32))","v":""},{"$f":"IF(C32=\"-\",\"\",I$3-18)","v":""},{"$f":"IF(C32=\"-\",\"\",D32+E32+F32+2)","v":""},{"$f":"IF(C32=\"-\",\"\",IF(G32>=0,1816,J32-96))","v":""}]
["802F70DX\n802F70SX","822F70DX\n822F70SX",{"$f":"IF(I3=\"\",\"-\",IF(I3<2130,\"-\",IF(I3>=2130,IF(I3<=2630,\"F70\",IF(I3>2630,\"-\")))))","v":"-"},{"$f":"IF(C33=\"-\",\"\",356.5)","v":""},{"$f":"IF(C33=\"-\",\"\",(($I$3-(D33*4)-18-60-4-9)/2))","v":""},{"$f":"IF(C33=\"-\",\"\",356.5)","v":""},{"$f":"IF(C33=\"-\",\"\",E33-D33)","v":""},{"$f":"IF(C33=\"-\",\"\",450)","v":""},{"$f":"IF(C33=\"-\",\"\",IF(G33<1,300,300+G33))","v":""},{"$f":"IF(C33=\"-\",\"\",I$3-18)","v":""},{"$f":"IF(C33=\"-\",\"\",D33+E33+F33+2)","v":""},{"$f":"IF(C33=\"-\",\"\",IF(G33>=0,2116,J33-96))","v":""}]
["802A80DX\n802A80SX","822A80DX\n822A80SX",{"$f":"IF(I3=\"\",\"-\",IF(I3<2430,\"-\",IF(I3>=2430,IF(I3<=2930,\"A80\",IF(I3>2930,\"-\")))))","v":"-"},{"$f":"IF(C34=\"-\",\"\",406.5)","v":""},{"$f":"IF(C34=\"-\",\"\",(($I$3-(D34*4)-18-60-4-9)/2))","v":""},{"$f":"IF(C34=\"-\",\"\",406.5)","v":""},"",{"$f":"IF(C34=\"-\",\"\",500)","v":""},{"$f":"IF(C34=\"-\",\"\",IF(G34<1,350,350+G34))","v":""},{"$f":"IF(C34=\"-\",\"\",I$3-18)","v":""},{"$f":"IF(C34=\"-\",\"\",D34+E34+F34+2)","v":""},{"$f":"IF(C34=\"-\",\"\",IF(G34>=0,2416,J34-96))","v":""}]
["802B90DX\n802B90SX","822B90DX\n822B90SX",{"$f":"IF(I3=\"\",\"-\",IF(I3<2730,\"-\",IF(I3>=2730,IF(I3<=3230,\"B90\",IF(I3>3230,\"-\")))))","v":"-"},{"$f":"IF(C35=\"-\",\"\",456.5)","v":""},{"$f":"IF(C35=\"-\",\"\",(($I$3-(D35*4)-18-60-4-9)/2))","v":""},{"$f":"IF(C35=\"-\",\"\",456.5)","v":""},"",{"$f":"IF(C35=\"-\",\"\",550)","v":""},{"$f":"IF(C35=\"-\",\"\",IF(G35<1,400,400+G35))","v":""},{"$f":"IF(C35=\"-\",\"\",I$3-18)","v":""},{"$f":"IF(C35=\"-\",\"\",D35+E35+F35+2)","v":""},{"$f":"IF(C35=\"-\",\"\",IF(G35>=0,2716,J35-96))","v":""}]
["802B100DX\n802B100SX","822B100DX\n822B100SX",{"$f":"IF(I3=\"\",\"-\",IF(I3<3030,\"-\",IF(I3>=3030,IF(I3<=3530,\"B100\",IF(I3>3530,\"-\")))))","v":"-"},{"$f":"IF(C36=\"-\",\"\",506.5)","v":""},{"$f":"IF(C36=\"-\",\"\",(($I$3-(D36*4)-18-60-4-9)/2))","v":""},{"$f":"IF(C36=\"-\",\"\",506.5)","v":""},"",{"$f":"IF(C36=\"-\",\"\",600)","v":""},{"$f":"IF(C36=\"-\",\"\",IF(G36<1,450,450+G36))","v":""},{"$f":"IF(C36=\"-\",\"\",I$3-18)","v":""},{"$f":"IF(C36=\"-\",\"\",D36+E36+F36+2)","v":""},{"$f":"IF(C36=\"-\",\"\",IF(G36>=0,3016,J36-96))","v":""}]
["DOOR EXAMPLE WITH DOUBLE OPENING  OBTAINABLE WITH A COUPLE OF HARDWARE KIT RIGHT AND LEFT (DX + SX)",{"$nulls":8},"specified dimensions are approximate"]
["OPTIONAL: Push@go to manage secondary leaf release "]
[]
[]
[]
[]
[]
[]
["  <<Return to main menu"]
["CELEGON Srl | Via G. Galilei, 6 - Z.I. | 30035 Mirano (Ve) | T +39 041 572 8404 | F +39 041 572 8522 | info@celegon.it | P.IVA 01892090273 | © copyright 2021 "]